BEGIN:VCALENDAR
VERSION:2.0
PRODID:-//Slovensko združenje elektroenergetikov - ECPv6.15.13//NONSGML v1.0//EN
CALSCALE:GREGORIAN
METHOD:PUBLISH
X-WR-CALNAME:Slovensko združenje elektroenergetikov
X-ORIGINAL-URL:https://www.cigre-cired.si
X-WR-CALDESC:Dogodki za Slovensko združenje elektroenergetikov
REFRESH-INTERVAL;VALUE=DURATION:PT1H
X-Robots-Tag:noindex
X-PUBLISHED-TTL:PT1H
BEGIN:VTIMEZONE
TZID:Europe/Ljubljana
BEGIN:DAYLIGHT
TZOFFSETFROM:+0100
TZOFFSETTO:+0200
TZNAME:CEST
DTSTART:20170326T010000
END:DAYLIGHT
BEGIN:STANDARD
TZOFFSETFROM:+0200
TZOFFSETTO:+0100
TZNAME:CET
DTSTART:20171029T010000
END:STANDARD
BEGIN:DAYLIGHT
TZOFFSETFROM:+0100
TZOFFSETTO:+0200
TZNAME:CEST
DTSTART:20180325T010000
END:DAYLIGHT
BEGIN:STANDARD
TZOFFSETFROM:+0200
TZOFFSETTO:+0100
TZNAME:CET
DTSTART:20181028T010000
END:STANDARD
BEGIN:DAYLIGHT
TZOFFSETFROM:+0100
TZOFFSETTO:+0200
TZNAME:CEST
DTSTART:20190331T010000
END:DAYLIGHT
BEGIN:STANDARD
TZOFFSETFROM:+0200
TZOFFSETTO:+0100
TZNAME:CET
DTSTART:20191027T010000
END:STANDARD
END:VTIMEZONE
BEGIN:VEVENT
DTSTART;TZID=Europe/Ljubljana:20181115T090000
DTEND;TZID=Europe/Ljubljana:20181115T170000
DTSTAMP:20260423T223016
CREATED:20180527T170309Z
LAST-MODIFIED:20190311T180405Z
UID:933-1542272400-1542301200@www.cigre-cired.si
SUMMARY:4. SLOVENSKE KONFERENCE O VZDRŽEVANJU SE JE UDELEŽILO VEČ KOT 150 STROKOVNJAKOV. OGLEJTE SI ZAKLJUČKE KONFERENCE
DESCRIPTION:DOGODEK ZAKLJUČEN \n\nGalerija slik \n\n\nPodelitev nagrade \nProf. dr. Jože Pihler je na konferenci prejel nagrado zaslužni član mednarodne CIGRE – CIGRE Distinguished Member. Čestitamo! \nReferati in predstavitve \nVse povzetke\, referate in predstavitve\, ki so bile na konferenci lahko najdete v našem Arhivu Referatov tukaj. Za ogled vsebine morate biti prijavljeni v sistem! \nZaključki konference po sklopih so sledeči: \nSK 1 – Tehnični predpisi\, standardi\, vplivi na kakovost električne energije \nSK 2 – Vzdrževanje – teorija\, optimizacija in terminologija \nSK 3 – Vzdrževanje proizvodnih elektroenergetskih naprav \nSK 4 – Vzdrževanje prenosnih elektroenergetskih naprav \nSK 5 – Vzdrževanje distribucijskih elektroenergetskih naprav \n\n4. slovenska konferenca o vzdrževanju v elektroenergetiki\, je potekala v četrtek 15.11.2018 v hotelu Perla v Novi Gorici. \nStrokovnjaki iz elektroenergetskega sektorja so v strokovnih referatih predstavili uveljavljene prakse in novosti o vzdrževanju elektroenergetskih naprav na nivoju prenosa\, distribucije in proizvodnje električne energije. \nPROGRAM KONFERENCE \nStrokovni del konference bo potekal v petih sklopih: \nSK-1 – TEHNIČNI PREDPISI\, STANDARDI\, VPLIVI NA KAKOVOST ELEKTRIČNE ENERGIJE \n\nkritični pregled obstoječe zakonodaje;\nizrazoslovje v tehnični regulativi in zakonodaji;\nuporaba in nadgradnja obstoječe zakonodaje;\nzakonodaja in regulativa vzdrževanja (varnost in zdravje pri delu);\n\nSK-2 – VZDRŽEVANJE – TEORIJA\, OPTIMIZACIJA IN TERMINOLOGIJA \n\nrazvoj teorije vzdrževanja (RCM\, diagnostika\, statistika dogodkov\, itd.);\ninformacijske tehnologije kot podpora vzdrževanju;\noptimizacija;\ntipizacija;\n\nSK-3 – VZDRŽEVANJE PROIZVODNIH ELEKTROENERGETSKIH NAPRAV \n\ndopolnitve Pravilnika o vzdrževanju s specifičnostmi proizvodnje;\ndiagnostika proizvodnih naprav;\nvzdrževanje proizvodnih naprav;\n\nSK-4 – VZDRŽEVANJE PRENOSNIH ELEKTROENERGETSKIH NAPRAV \n\nstatistika dogodkov\, podatki o vzdrževanju in njihov prikaz;\ndiagnostika prenosnih naprav in podatkovna podpora aplikacijam v vzdrževanju;\nvzdrževanje in obnove prenosnih naprav ter lastne rabe;\nodprava posledic naravnih ujm na objektih prenosa;\n\nSK-5 – VZDRŽEVANJE DISTRIBUCIJSKIH ELEKTROENERGETSKIH NAPRAV \n\ninformacijska tehnologija kot podpora vzdrževanju;\nuporaba sodobne tehnologije pri pregledovanju nadzemnih vodov;\nvzdrževanje distribucijskih naprav;\n\n  \nURNIK DOGODKA \n\n\n\nUra\n   Vsebina\n\n\n8:30 – 9:00\n   Registracija in jutranja pogostitev\n\n\n9:00 – 9:10\n   Otvoritev in uvodni nagovor\n\n\n9:10 – 9:40\n   Uvodno predavanje\n\n\n9:40 – 10:25\n   Predstavitev referatov v SK-1\n\n\n10:25 – 10:40\n   Vabljeno predavanje “Graditev v luči nove regulative” – Ivan Leban\n\n\n10:40 – 11:00\n   Dopoldanski odmor\n\n\n11:00 – 12:00\n   Predstavitev referatov v SK-5\n\n\n12:00 – 13:00\n   Predstavitev referatov v SK-2\n\n\n13:00 – 14:30\n   Kosilo\n\n\n14:30 – 15:30\n   Predstavitev referatov v SK-3\n\n\n15:30 – 16:30\n   Predstavitev referatov v SK-4\n\n\n16:30 – 17:00\n   Zaključki\n\n\n\n  \nKotizacija za dogodek (vključuje DDV):\n–          Za člane in študente: brezplačna\n–          Za nečlane: 100 EUR \nKotizacija vsebuje:\n–          Bogat strokovni program\n–          Pogostitev med odmori in kosilo\n–          Promocijski material sponzorjev \n  \nUporabljeni vzorec članka in prezentacije za konferenco: \nPredloga članek – 4. konf o vzd 2018 \nPredloga PPT – 4. konf o vzd 2018 \n  \n  \nZahvaljujemo se sponzorjem dogodka! \n  \n \n  \n \n  \n \n  \n \n \n \n  \n \n  \n \n  \n \n  \n 
URL:https://www.cigre-cired.si/event/4-slovenska-konferenca-o-vzdrzevanju-v-elektroenergetiki/
LOCATION:Nova Gorica\, Nova Gorica\, Slovenija
CATEGORIES:Dogodki,Domači
ATTACH;FMTTYPE=image/jpeg:https://www.cigre-cired.si/wp-content/uploads/2018/05/DSC_0132.jpg
GEO:45.9549755;13.6493044
END:VEVENT
END:VCALENDAR