BEGIN:VCALENDAR
VERSION:2.0
PRODID:-//Slovensko združenje elektroenergetikov - ECPv6.15.13//NONSGML v1.0//EN
CALSCALE:GREGORIAN
METHOD:PUBLISH
X-ORIGINAL-URL:https://www.cigre-cired.si
X-WR-CALDESC:Dogodki za Slovensko združenje elektroenergetikov
REFRESH-INTERVAL;VALUE=DURATION:PT1H
X-Robots-Tag:noindex
X-PUBLISHED-TTL:PT1H
BEGIN:VTIMEZONE
TZID:Europe/Ljubljana
BEGIN:DAYLIGHT
TZOFFSETFROM:+0100
TZOFFSETTO:+0200
TZNAME:CEST
DTSTART:20260329T010000
END:DAYLIGHT
BEGIN:STANDARD
TZOFFSETFROM:+0200
TZOFFSETTO:+0100
TZNAME:CET
DTSTART:20261025T010000
END:STANDARD
BEGIN:DAYLIGHT
TZOFFSETFROM:+0100
TZOFFSETTO:+0200
TZNAME:CEST
DTSTART:20270328T010000
END:DAYLIGHT
BEGIN:STANDARD
TZOFFSETFROM:+0200
TZOFFSETTO:+0100
TZNAME:CET
DTSTART:20271031T010000
END:STANDARD
BEGIN:DAYLIGHT
TZOFFSETFROM:+0100
TZOFFSETTO:+0200
TZNAME:CEST
DTSTART:20280326T010000
END:DAYLIGHT
BEGIN:STANDARD
TZOFFSETFROM:+0200
TZOFFSETTO:+0100
TZNAME:CET
DTSTART:20281029T010000
END:STANDARD
END:VTIMEZONE
BEGIN:VEVENT
DTSTART;VALUE=DATE:20270614
DTEND;VALUE=DATE:20270618
DTSTAMP:20260422T174113
CREATED:20260421T124047Z
LAST-MODIFIED:20260421T124047Z
UID:39731-1812931200-1813276799@www.cigre-cired.si
SUMMARY:CIRED 2027\, call for papers
DESCRIPTION:Mednarodna organizacija za distribucijo električne energije CIRED vsaki dve leti v Evropi organizira veliko mednarodno konferenco in razstavo\, ki združuje udeležence z vsega sveta. \n29. konferenca CIRED 2027\, bo potekala v Stockholmu (Švedska) od 14. do 17. junija 2027. \nUdeležba na CIRED 2027 ponuja priložnost za srečanje z do 3.000 strokovnjaki ter neposredno povezovanje s ključnimi odločevalci na področju distribucije električne energije. V času konference bo potekala tudi razstava z več kot 140 podjetji. \n\nRAZPIS ZA ODDAJO POVZETKOV\nKonferenca je razdeljena na šest glavnih sekcij:  \nSekcija 1: Omrežne komponente  \nSekcija 2: Kakovost električne energije in varnost  \nSekcija 3: Obratovanje  \nSekcija 4: Zaščita\, vodenje\, avtomatizacija in kibernetska varnost  \nSekcija 5: Načrtovanje distribucijskih sistemov  \nSekcija 6: Odjemalci\, regulativa\, poslovanje distribucijskih podjetij in upravljanje tveganj \n👉Celoten razpis za prispevke: https://2027.cired.net/call-for-papers/  \nRok za oddajo prispevkov: 14. september 2026 \n\nSPONZORSTVO IN RAZSTAVA\nVas zanima sponzoriranje ali razstavljanje na CIRED 2027?  \nOglejte si razpoložljive možnosti tukaj: https://2027.cired.net/sponsorship-and-exhibition/ \n 
URL:https://www.cigre-cired.si/event/cired-2027-call-for-papers/
LOCATION:Stockholm\, Švedska
CATEGORIES:Dogodki,Domača stran,Domači
ATTACH;FMTTYPE=image/png:https://www.cigre-cired.si/wp-content/uploads/2026/04/logo-conference-scaled.png
END:VEVENT
END:VCALENDAR